BEGIN:VCALENDAR
VERSION:2.0
PRODID:-//TV Erwitte 1951 e.V. - ECPv6.2.9//NONSGML v1.0//EN
CALSCALE:GREGORIAN
METHOD:PUBLISH
X-ORIGINAL-URL:https://www.tv-erwitte.de
X-WR-CALDESC:Veranstaltungen für TV Erwitte 1951 e.V.
REFRESH-INTERVAL;VALUE=DURATION:PT1H
X-Robots-Tag:noindex
X-PUBLISHED-TTL:PT1H
BEGIN:VTIMEZONE
TZID:Europe/Berlin
BEGIN:DAYLIGHT
TZOFFSETFROM:+0100
TZOFFSETTO:+0200
TZNAME:CEST
DTSTART:20220327T010000
END:DAYLIGHT
BEGIN:STANDARD
TZOFFSETFROM:+0200
TZOFFSETTO:+0100
TZNAME:CET
DTSTART:20221030T010000
END:STANDARD
END:VTIMEZONE
BEGIN:VEVENT
DTSTART;VALUE=DATE:20220924
DTEND;VALUE=DATE:20220926
DTSTAMP:20260425T023127
CREATED:20220317T150240Z
LAST-MODIFIED:20220317T150240Z
UID:1505-1664006400-1664092799@www.tv-erwitte.de
SUMMARY:Saisonabschluß 2022
DESCRIPTION:Nähere Infos folgen demnächst….
URL:https://www.tv-erwitte.de/event/saisonabschluss-2022/
LOCATION:TV Erwitte\, Bruchweg 2\, Erwitte\, nrw\, 59597
ATTACH;FMTTYPE=image/jpeg:https://www.tv-erwitte.de/wp-content/uploads/2019/09/Saisonabschluß-e1569269209974.jpg
END:VEVENT
END:VCALENDAR