BEGIN:VCALENDAR
VERSION:2.0
PRODID:-//TV Erwitte 1951 e.V. - ECPv6.2.9//NONSGML v1.0//EN
CALSCALE:GREGORIAN
METHOD:PUBLISH
X-WR-CALNAME:TV Erwitte 1951 e.V.
X-ORIGINAL-URL:https://www.tv-erwitte.de
X-WR-CALDESC:Veranstaltungen für TV Erwitte 1951 e.V.
REFRESH-INTERVAL;VALUE=DURATION:PT1H
X-Robots-Tag:noindex
X-PUBLISHED-TTL:PT1H
BEGIN:VTIMEZONE
TZID:Europe/Berlin
BEGIN:DAYLIGHT
TZOFFSETFROM:+0100
TZOFFSETTO:+0200
TZNAME:CEST
DTSTART:20230326T010000
END:DAYLIGHT
BEGIN:STANDARD
TZOFFSETFROM:+0200
TZOFFSETTO:+0100
TZNAME:CET
DTSTART:20231029T010000
END:STANDARD
END:VTIMEZONE
BEGIN:VEVENT
DTSTART;VALUE=DATE:20230626
DTEND;VALUE=DATE:20230702
DTSTAMP:20260424T101348
CREATED:20220317T145657Z
LAST-MODIFIED:20230619T194509Z
UID:1500-1687766400-1688198399@www.tv-erwitte.de
SUMMARY:Tenniscamps der Tennisschule Ion Cernea
DESCRIPTION:Auch in diesem Jahr bietet die Tennisschule Cernea wieder 2 Tenniscamps an. \nIn der ersten und in der letzten Woche der Sommerferien können Groß und Klein jeweils 1 Woche Extra-Training genießen. \nCamp 1          26.06.2023 – 30.06.2023 \nCamp 2          31.07.2023 – 04.08.2023 (nur für Kids) \nDie Anmeldung erfolgt über die Webseite der Tennisschule Cernea. Ein Klick auf das Logo genügt\, und Ihr seid auf der richtigen Seite. Sobald die Anmeldezeit startet\, ist der entsprechende Button grün.
URL:https://www.tv-erwitte.de/event/tenniscamps-der-tennisschule-ion-cernea/
LOCATION:TV Erwitte\, Bruchweg 2\, Erwitte\, nrw\, 59597
ATTACH;FMTTYPE=image/jpeg:https://www.tv-erwitte.de/wp-content/uploads/2020/07/1.-Tenniscamp-2020-Gruppenfoto.jpg
END:VEVENT
END:VCALENDAR