BEGIN:VCALENDAR
VERSION:2.0
PRODID:-//TV Erwitte 1951 e.V. - ECPv6.2.9//NONSGML v1.0//EN
CALSCALE:GREGORIAN
METHOD:PUBLISH
X-ORIGINAL-URL:https://www.tv-erwitte.de
X-WR-CALDESC:Veranstaltungen für TV Erwitte 1951 e.V.
REFRESH-INTERVAL;VALUE=DURATION:PT1H
X-Robots-Tag:noindex
X-PUBLISHED-TTL:PT1H
BEGIN:VTIMEZONE
TZID:Europe/Berlin
BEGIN:DAYLIGHT
TZOFFSETFROM:+0100
TZOFFSETTO:+0200
TZNAME:CEST
DTSTART:20230326T010000
END:DAYLIGHT
BEGIN:STANDARD
TZOFFSETFROM:+0200
TZOFFSETTO:+0100
TZNAME:CET
DTSTART:20231029T010000
END:STANDARD
END:VTIMEZONE
BEGIN:VEVENT
DTSTART;TZID=Europe/Berlin:20231125T190000
DTEND;TZID=Europe/Berlin:20231125T230000
DTSTAMP:20260420T215952
CREATED:20231122T142207Z
LAST-MODIFIED:20231122T142207Z
UID:1905-1700938800-1700953200@www.tv-erwitte.de
SUMMARY:Erwitter Sportlerball
DESCRIPTION:Sportlerehrung der Stadt Erwitte findet wieder statt\nSportlerball zeichnet am 25. November 2023 über 100 Sportlerinnen\, Sportler und Teams aus. Über zehn Vereine aus unterschiedlichsten Sportarten. Feier mit Musik\, Essen und Getränken \nNach sechs Jahren Unterbrechung wird die Stadt Erwitte wieder gemeinsam mit dem Stadtsportverband Erwitte Sportlerinnen und Sportler sowie Sportmannschaften ehren\, die hervorragende sportliche Leistungen erbracht oder sich besondere Verdienste um den Sport erworben haben. Zuletzt wurden die Ehrungen im Herbst 2017 verliehen\, pandemie- und terminbedingt folgte eine lange Pause. \nDie Auszeichnungen werden Rahmen des Erwitter Sportlerballs verliehen\, dieser findet statt am Samstag\, 25. November 2023\, ab 19 Uhr in der Hellweghalle Erwitte. Einlass ist ab 18 Uhr. \nGrundlage für eine Ehrung sind die vom Rat der Stadt Erwitte beschlossenen Ehrungsrichtlinien. Geehrt werden jetzt Erfolge aus den Jahren 2022 und 2023. Darüber hinaus werden auch außergewöhnliche Erfolge der Kategorie „Gold“ aus den Jahren 2018 bis 2021 nachträglich gewürdigt. \nDer Ausschuss für Bildung\, Soziales\, Sport\, Kultur und Sicherheit hat nun in seiner Sitzung am vergangenen Donnerstag einstimmig die auszuzeichnenden Sportlerinnen und Sportler sowie Sportmannschaften bestimmt. Geehrt werden über 100 Sportlerinnen und Sportler sowie Teams aus über zehn Vereinen und Schulen sowie den unterschiedlichsten Sportarten\, darunter Fußball\, Tennis\, Tischtennis\, Reitsport\, Turnen\, Volleyball\, Sportschießen und in diesem Jahr sogar Motorsport. Sie alle erhalten in dieser Woche von der Stadt Erwitte die persönliche Einladung zu ihrer Ehrung. \nEingeladen sind auch alle Erwitter Sportvereine\, um in der Hellweghalle einen feierlichen Rahmen zu schaffen. Musikalisch begleitet wird der Sportlerball vom Jugendchor der Musikschule Erwitte „Voices in Harmony“\, der Dortmunder Band „Nightlife Coverrock“ und dem bekannten DJ Ralfi. Für Essen und Getränke sorgen der Heidehof Röllgen und Köster Event. \nChristof Rasche als Vorsitzender des Stadtsportverbandes zeigt sich mit großer Vorfreude: „Nach über sechs Jahren können wir endlich wieder unsere herausragenden Sportler ehren und gemeinsam mit der Sportfamilie feiern!“ Erwittes Bürgermeister Hendrik Henneböhl bestätigt: „Erwitte ist und bleibt Stadt im Zeichen des Sports. Das zeigen sowohl das große ehrenamtliche Engagement in den Vereinen als auch die sportlichen Erfolge in den zahlreichen Disziplinen. Erwitte bleibt im wahrsten Sinne des Wortes in Bewegung\, das wollen wir am 25. November wieder gebührend würdigen!“
URL:https://www.tv-erwitte.de/event/erwitter-sportlerball/
LOCATION:Hellweghalle Erwitte\, Zur Hellweghalle\, Erwitte\, 59597
END:VEVENT
END:VCALENDAR