BEGIN:VCALENDAR
VERSION:2.0
PRODID:-//TV Erwitte 1951 e.V. - ECPv6.2.9//NONSGML v1.0//EN
CALSCALE:GREGORIAN
METHOD:PUBLISH
X-ORIGINAL-URL:https://www.tv-erwitte.de
X-WR-CALDESC:Veranstaltungen für TV Erwitte 1951 e.V.
REFRESH-INTERVAL;VALUE=DURATION:PT1H
X-Robots-Tag:noindex
X-PUBLISHED-TTL:PT1H
BEGIN:VTIMEZONE
TZID:Europe/Berlin
BEGIN:DAYLIGHT
TZOFFSETFROM:+0100
TZOFFSETTO:+0200
TZNAME:CEST
DTSTART:20240331T010000
END:DAYLIGHT
BEGIN:STANDARD
TZOFFSETFROM:+0200
TZOFFSETTO:+0100
TZNAME:CET
DTSTART:20241027T010000
END:STANDARD
END:VTIMEZONE
BEGIN:VEVENT
DTSTART;VALUE=DATE:20240114
DTEND;VALUE=DATE:20240116
DTSTAMP:20260420T183852
CREATED:20231122T151451Z
LAST-MODIFIED:20231122T152202Z
UID:1943-1705219200-1705305599@www.tv-erwitte.de
SUMMARY:2. Sport Rotter LK - Turnier
DESCRIPTION:Infos und Anmeldung auf mybigpoint.de \nAusschreibung \nKonkurrenzen: \n\nJunioren U16 Einzel LK 1\,0-25\,0\nJunioren U18 Einzel LK 1\,0-25\,0
URL:https://www.tv-erwitte.de/event/2-sport-rotter-lk-turnier/
LOCATION:Tennishalle Erwitte\, Bruchweg 2\, Erwitte\, 59597
END:VEVENT
END:VCALENDAR