BEGIN:VCALENDAR
VERSION:2.0
PRODID:-//TV Erwitte 1951 e.V. - ECPv6.2.9//NONSGML v1.0//EN
CALSCALE:GREGORIAN
METHOD:PUBLISH
X-ORIGINAL-URL:https://www.tv-erwitte.de
X-WR-CALDESC:Veranstaltungen für TV Erwitte 1951 e.V.
REFRESH-INTERVAL;VALUE=DURATION:PT1H
X-Robots-Tag:noindex
X-PUBLISHED-TTL:PT1H
BEGIN:VTIMEZONE
TZID:Europe/Berlin
BEGIN:DAYLIGHT
TZOFFSETFROM:+0100
TZOFFSETTO:+0200
TZNAME:CEST
DTSTART:20240331T010000
END:DAYLIGHT
BEGIN:STANDARD
TZOFFSETFROM:+0200
TZOFFSETTO:+0100
TZNAME:CET
DTSTART:20241027T010000
END:STANDARD
END:VTIMEZONE
BEGIN:VEVENT
DTSTART;TZID=Europe/Berlin:20240121T110000
DTEND;TZID=Europe/Berlin:20240121T160000
DTSTAMP:20260420T183727
CREATED:20240104T182101Z
LAST-MODIFIED:20240104T184311Z
UID:1978-1705834800-1705852800@www.tv-erwitte.de
SUMMARY:Winter-Helfer-Party
DESCRIPTION:
URL:https://www.tv-erwitte.de/event/winter-helfer-party/
LOCATION:TV Erwitte\, Bruchweg 2\, Erwitte\, nrw\, 59597
END:VEVENT
END:VCALENDAR