BEGIN:VCALENDAR
VERSION:2.0
PRODID:-//TV Erwitte 1951 e.V. - ECPv6.2.9//NONSGML v1.0//EN
CALSCALE:GREGORIAN
METHOD:PUBLISH
X-ORIGINAL-URL:https://www.tv-erwitte.de
X-WR-CALDESC:Veranstaltungen für TV Erwitte 1951 e.V.
REFRESH-INTERVAL;VALUE=DURATION:PT1H
X-Robots-Tag:noindex
X-PUBLISHED-TTL:PT1H
BEGIN:VTIMEZONE
TZID:Europe/Berlin
BEGIN:DAYLIGHT
TZOFFSETFROM:+0100
TZOFFSETTO:+0200
TZNAME:CEST
DTSTART:20240331T010000
END:DAYLIGHT
BEGIN:STANDARD
TZOFFSETFROM:+0200
TZOFFSETTO:+0100
TZNAME:CET
DTSTART:20241027T010000
END:STANDARD
END:VTIMEZONE
BEGIN:VEVENT
DTSTART;VALUE=DATE:20241006
DTEND;VALUE=DATE:20241008
DTSTAMP:20260420T031418
CREATED:20240922T165256Z
LAST-MODIFIED:20240922T165256Z
UID:2174-1728201600-1728287999@www.tv-erwitte.de
SUMMARY:Sport Rotter LK-Turnier - Damen und Herren Doppel
DESCRIPTION:
URL:https://www.tv-erwitte.de/event/sport-rotter-lk-turnier-damen-und-herren-doppel/
LOCATION:Tennishalle Erwitte\, Bruchweg 2\, Erwitte\, 59597
END:VEVENT
END:VCALENDAR