BEGIN:VCALENDAR
VERSION:2.0
PRODID:-//TV Erwitte 1951 e.V. - ECPv6.2.9//NONSGML v1.0//EN
CALSCALE:GREGORIAN
METHOD:PUBLISH
X-ORIGINAL-URL:https://www.tv-erwitte.de
X-WR-CALDESC:Veranstaltungen für TV Erwitte 1951 e.V.
REFRESH-INTERVAL;VALUE=DURATION:PT1H
X-Robots-Tag:noindex
X-PUBLISHED-TTL:PT1H
BEGIN:VTIMEZONE
TZID:Europe/Berlin
BEGIN:DAYLIGHT
TZOFFSETFROM:+0100
TZOFFSETTO:+0200
TZNAME:CEST
DTSTART:20240331T010000
END:DAYLIGHT
BEGIN:STANDARD
TZOFFSETFROM:+0200
TZOFFSETTO:+0100
TZNAME:CET
DTSTART:20241027T010000
END:STANDARD
END:VTIMEZONE
BEGIN:VEVENT
DTSTART;TZID=Europe/Berlin:20240315T193000
DTEND;TZID=Europe/Berlin:20240315T220000
DTSTAMP:20260420T135533
CREATED:20231217T112335Z
LAST-MODIFIED:20231217T112335Z
UID:1963-1710531000-1710540000@www.tv-erwitte.de
SUMMARY:Mitgliederversammlung TV Erwitte
DESCRIPTION:Am 15. März 2024 steht unsere alljährliche Mitgliederversammlung in unserem Clubhaus an.
URL:https://www.tv-erwitte.de/event/mitgliederversammlung-tv-erwitte/
LOCATION:TV Erwitte\, Bruchweg 2\, Erwitte\, nrw\, 59597
END:VEVENT
END:VCALENDAR